BEGIN:VCALENDAR
VERSION:2.0
PRODID:-//Buckner Westminster Place - ECPv6.15.20//NONSGML v1.0//EN
CALSCALE:GREGORIAN
METHOD:PUBLISH
X-WR-CALNAME:Buckner Westminster Place
X-ORIGINAL-URL:https://bucknerwestminster.org
X-WR-CALDESC:Events for Buckner Westminster Place
REFRESH-INTERVAL;VALUE=DURATION:PT1H
X-Robots-Tag:noindex
X-PUBLISHED-TTL:PT1H
BEGIN:VTIMEZONE
TZID:America/Chicago
BEGIN:DAYLIGHT
TZOFFSETFROM:-0600
TZOFFSETTO:-0500
TZNAME:CDT
DTSTART:20230312T080000
END:DAYLIGHT
BEGIN:STANDARD
TZOFFSETFROM:-0500
TZOFFSETTO:-0600
TZNAME:CST
DTSTART:20231105T070000
END:STANDARD
BEGIN:DAYLIGHT
TZOFFSETFROM:-0600
TZOFFSETTO:-0500
TZNAME:CDT
DTSTART:20240310T080000
END:DAYLIGHT
BEGIN:STANDARD
TZOFFSETFROM:-0500
TZOFFSETTO:-0600
TZNAME:CST
DTSTART:20241103T070000
END:STANDARD
BEGIN:DAYLIGHT
TZOFFSETFROM:-0600
TZOFFSETTO:-0500
TZNAME:CDT
DTSTART:20250309T080000
END:DAYLIGHT
BEGIN:STANDARD
TZOFFSETFROM:-0500
TZOFFSETTO:-0600
TZNAME:CST
DTSTART:20251102T070000
END:STANDARD
END:VTIMEZONE
BEGIN:VEVENT
DTSTART;TZID=America/Chicago:20240125T180000
DTEND;TZID=America/Chicago:20240125T193000
DTSTAMP:20260423T093636
CREATED:20230125T120029Z
LAST-MODIFIED:20231213T183710Z
UID:1295-1706205600-1706211000@bucknerwestminster.org
SUMMARY:New Year\, New View Tour of Homes
DESCRIPTION:Come See\nCome see for yourself what life at Buckner Westminster Place looks like at our tour of homes. Choose from two dates to tour our most popular floor plans and enjoy small bites and refreshments! \nWestminster Place\n2201 Horseshoe Lane\nLongview\, TX 75605 \nRSVP for this limited seating event by calling 903-329-6520 or by filling out the form
URL:https://bucknerwestminster.org/event/new-year-new-view-tour-of-homes-2/
LOCATION:Buckner Westminster Place\, 2201 Horseshoe Ln\, Longview\, TX\, 75605\, United States
END:VEVENT
END:VCALENDAR